BEGIN:VCALENDAR
VERSION:2.0
PRODID:-//КРАПКА - ECPv4.8.1//NONSGML v1.0//EN
CALSCALE:GREGORIAN
METHOD:PUBLISH
X-WR-CALNAME:КРАПКА
X-ORIGINAL-URL:https://krapka.rv.ua
X-WR-CALDESC:Events for КРАПКА
BEGIN:VEVENT
DTSTART;TZID=Europe/Uzhgorod:20180131T150000
DTEND;TZID=Europe/Uzhgorod:20180131T170000
DTSTAMP:20260419T125423
CREATED:20180124T104540Z
LAST-MODIFIED:20180124T104540Z
UID:28656-1517410800-1517418000@krapka.rv.ua
SUMMARY:Фотовиставку "Рівне 2017. День за днем" представлять у МБК
DESCRIPTION:Презентація виставки та нагородження переможців Другого Конкурсу репортерської фотографії “Рівне 2017. День за днем” відбудеться у Рівному 31 січня. Розпочнеться захід о 15:00 в Міський Будинок Культури. \nБільше інформації про захід – читайте у нашому анонсі  \n
URL:https://krapka.rv.ua/event/fotovystavku-rivne-2017-den-za-dnem-predstavlyat-u-mbk/
LOCATION:Рівне\, МБК
ATTACH;FMTTYPE=image/jpeg:https://krapka.rv.ua/wp-content/uploads/2018/01/vyst-1.jpg
END:VEVENT
END:VCALENDAR