BEGIN:VCALENDAR
VERSION:2.0
PRODID:-//КРАПКА - ECPv4.8.1//NONSGML v1.0//EN
CALSCALE:GREGORIAN
METHOD:PUBLISH
X-WR-CALNAME:КРАПКА
X-ORIGINAL-URL:https://krapka.rv.ua
X-WR-CALDESC:Events for КРАПКА
BEGIN:VEVENT
DTSTART;TZID=Europe/Uzhgorod:20180105T110000
DTEND;TZID=Europe/Uzhgorod:20180105T180000
DTSTAMP:20260423T085827
CREATED:20180104T191839Z
LAST-MODIFIED:20180118T201150Z
UID:27836-1515150000-1515175200@krapka.rv.ua
SUMMARY:Рівнян навчатимуть створювати різдвяних ангелів
DESCRIPTION:Майстер-клас з техніки ”сухе валяння” по створенню різдвяних ангелів відбудеться у Рівному 5 січня. Участь у заході можуть взяти дітки\, віком від 7 років. \nГрафік: \n1 група 11-00 — 13-00 год.\n2 група 13-30 — 15-30 год. \nБільше про захід – читайте у нашому анонсі. \n
URL:https://krapka.rv.ua/event/rivnyan-navchatymut-stvoryuvaty-rizdvyanyh-angeliv/
LOCATION:Рівне\, Кн. Ольги\, 5 (бізнесцентр)
ATTACH;FMTTYPE=image/jpeg:https://krapka.rv.ua/wp-content/uploads/2018/01/angely.jpg
END:VEVENT
END:VCALENDAR