BEGIN:VCALENDAR
VERSION:2.0
PRODID:-//КРАПКА - ECPv4.8.1//NONSGML v1.0//EN
CALSCALE:GREGORIAN
METHOD:PUBLISH
X-WR-CALNAME:КРАПКА
X-ORIGINAL-URL:https://krapka.rv.ua
X-WR-CALDESC:Events for КРАПКА
BEGIN:VEVENT
DTSTART;TZID=Europe/Uzhgorod:20180429T140000
DTEND;TZID=Europe/Uzhgorod:20180429T170000
DTSTAMP:20260419T150942
CREATED:20180426T101626Z
LAST-MODIFIED:20180426T101626Z
UID:35315-1525010400-1525021200@krapka.rv.ua
SUMMARY:Рівнян запрошують на дитячу мафію
DESCRIPTION:Дитяча мафія відбудеться у Рівному 29 квітня. Початок о 14 годині. \nА Ви знали\, що гра «Емоційна мафія» у MAFIA club Invest сприяє гармонійному розвитку і соціальному становленню підлітків та дітей від 9 років? Ця сучасна і така модна гра виконує наступні функції: \n🍭 допомагає знайти друзів;\n🍭 розвиває лідерські якості;\n🍭 навчає приймати рішення і обґрунтовувати його;\n🍭 розвиває логіку та інтуїцію;\n🍭 вчить мистецтву переконання та акторської гри;\n🍭 навчає вмінню слухати і бути толерантним;\n🍭 розвиває комунікативні навички;\n🍭 навчає відстоювати власну думку;\n🍭 вчить контролювати свої емоції;\n🍭 допомагає весело\, цікаво\, безпечно та з користю проводити вільний час. \nТел. для довідок та бронювання місць: 067 362 11 31 \n
URL:https://krapka.rv.ua/event/rivnyan-zaproshuyut-na-dytyachu-mafiyu/
LOCATION:Рівне\, ресторан “Meat&Wine”
ATTACH;FMTTYPE=image/jpeg:https://krapka.rv.ua/wp-content/uploads/2018/04/maf-1.jpg
END:VEVENT
END:VCALENDAR