BEGIN:VCALENDAR
VERSION:2.0
PRODID:-//КРАПКА - ECPv4.8.1//NONSGML v1.0//EN
CALSCALE:GREGORIAN
METHOD:PUBLISH
X-WR-CALNAME:КРАПКА
X-ORIGINAL-URL:https://krapka.rv.ua
X-WR-CALDESC:Events for КРАПКА
BEGIN:VEVENT
DTSTART;TZID=Europe/Uzhgorod:20180203T100000
DTEND;TZID=Europe/Uzhgorod:20180203T140000
DTSTAMP:20260419T171406
CREATED:20180202T202146Z
LAST-MODIFIED:20180202T202146Z
UID:29402-1517652000-1517666400@krapka.rv.ua
SUMMARY:Рівнян запрошують на комедію “Пригоди Паддінгтона 2”
DESCRIPTION:Комедію “Пригоди Паддінгтона 2” можна побачити в Рівному 3 лютого. Початок сеансів у кінопалаці “Україна” о 10 і 12 годинах. \n \nВ антикварному магазині Лондона чарівний і добре вихований ведмідь Паддінгтон знаходить унікальну старовинну книгу. Поки він з усіх своїх ведмежих сил намагається накопичити на неї гроші\, рідкісне видання раптово викрадають. Паддінгтон виявляється залучений в аферу століття\, затіяну знаменитим актором\, який нині рекламує собачі консерви\, а свій талант до перевтілення використовує в полюванні за скарбами\, які заховані по всьому Лондону. \n
URL:https://krapka.rv.ua/event/rivnyan-zaproshuyut-na-komediyu-prygody-paddingtona-2/
LOCATION:Рівне\, кінопалац “Україна”
ATTACH;FMTTYPE=image/jpeg:https://krapka.rv.ua/wp-content/uploads/2018/02/prygody.jpg
END:VEVENT
END:VCALENDAR