BEGIN:VCALENDAR
VERSION:2.0
PRODID:-//КРАПКА - ECPv4.8.1//NONSGML v1.0//EN
CALSCALE:GREGORIAN
METHOD:PUBLISH
X-WR-CALNAME:КРАПКА
X-ORIGINAL-URL:https://krapka.rv.ua
X-WR-CALDESC:Events for КРАПКА
BEGIN:VEVENT
DTSTART;TZID=Europe/Uzhgorod:20180217T200000
DTEND;TZID=Europe/Uzhgorod:20180217T230000
DTSTAMP:20260419T125551
CREATED:20180214T214427Z
LAST-MODIFIED:20180215T055003Z
UID:30403-1518897600-1518908400@krapka.rv.ua
SUMMARY:Рівнян запрошують на мафію із млинцями
DESCRIPTION:Зустріти Масляну в мафіозній компанії пропонують у Рівному всім любителям млинців із сиром\, ікрою\, медом. \nКількість місць обмежена! Тел. для бронювання місць: 067 362 11 31. Більше інформації на сторінці зустрічі у “Фейсбук” \nЧас прощатися з зимою\, розбудіть від сну весну! \n
URL:https://krapka.rv.ua/event/rivnyan-zaproshuyut-na-mafiyu-iz-mlyntsyamy/
LOCATION:Рівне\, кав’ярня «Між булок»
ATTACH;FMTTYPE=image/jpeg:https://krapka.rv.ua/wp-content/uploads/2018/02/masl.jpg
END:VEVENT
END:VCALENDAR