BEGIN:VCALENDAR
VERSION:2.0
PRODID:-//КРАПКА - ECPv4.8.1//NONSGML v1.0//EN
CALSCALE:GREGORIAN
METHOD:PUBLISH
X-WR-CALNAME:КРАПКА
X-ORIGINAL-URL:https://krapka.rv.ua
X-WR-CALDESC:Events for КРАПКА
BEGIN:VEVENT
DTSTART;TZID=Europe/Uzhgorod:20180318T150000
DTEND;TZID=Europe/Uzhgorod:20180318T170000
DTSTAMP:20260419T132825
CREATED:20180316T132510Z
LAST-MODIFIED:20180316T132510Z
UID:32753-1521385200-1521392400@krapka.rv.ua
SUMMARY:Рівнян запрошують на перегляд кримінальної драми «Гарні часи»
DESCRIPTION:Перегляд американської кримінальної драми “Гарні часи” у Рівному 18 березня. Початок о 15.00 в обласній бібліотеці для молоді. \nГоловну роль у фільмі виконав Роберт Паттісон\, відомий англійський актор\, модель\, музикант та кінопродюсер. \nБезуспішні спроби знайти роботу і відсутність грошей штовхають головного героя стрічки Конні Нікаса на відчайдушний вчинок – пограбування. Але все пішло не за планом: молодшого брата Ніка заарештовує поліція. Тепер старшому братові доведеться вирушити у химерну одіссею\, повну насильства і хаосу\, адже у нього є лише одна ніч\, щоб спробувати обігнати час і врятувати себе і брата від загибелі. \n
URL:https://krapka.rv.ua/event/rivnyan-zaproshuyut-na-pereglyad-kryminalnoyi-dramy-garni-chasy/
LOCATION:Рівне\, обласна бібліотека
ATTACH;FMTTYPE=image/jpeg:https://krapka.rv.ua/wp-content/uploads/2018/03/Garni-chasy.jpg
END:VEVENT
END:VCALENDAR