BEGIN:VCALENDAR
VERSION:2.0
PRODID:-//КРАПКА - ECPv4.8.1//NONSGML v1.0//EN
CALSCALE:GREGORIAN
METHOD:PUBLISH
X-WR-CALNAME:КРАПКА
X-ORIGINAL-URL:https://krapka.rv.ua
X-WR-CALDESC:Events for КРАПКА
BEGIN:VEVENT
DTSTART;TZID=Europe/Uzhgorod:20180325T140000
DTEND;TZID=Europe/Uzhgorod:20180325T180000
DTSTAMP:20260419T145103
CREATED:20180323T092513Z
LAST-MODIFIED:20180323T092513Z
UID:33309-1521986400-1522000800@krapka.rv.ua
SUMMARY:Рівнян запрошують на сімейну мафію
DESCRIPTION:Сімейна мафія відбудеться у Рівному 25 березня. Проходитиме захід у ресторані  “Meat&Wine”. Початок о 14 годині. \nТак\, впродовж чотирьох годин присутні зможуть приємно та весело провести час у сімейному колі. \nДля дорослих та дітей від 9 років – ігри «Емоційна мафія»\, для малюків – інші розваги відповідно до віку. \nВартість для сім’ї (більше 2 осіб) – 200 грн.\nВартість для 2 осіб – 150 грн.\nВартість для 1 особи – 100 грн. \nДеталі та реєстрація за тел.: 067 362 11 31 \nПроведіть неділю з сім’єю та максимальним задоволенням! \n
URL:https://krapka.rv.ua/event/rivnyan-zaproshuyut-na-simejnu-mafiyu/
LOCATION:Рівне\, ресторан “Meat&Wine”
ATTACH;FMTTYPE=image/jpeg:https://krapka.rv.ua/wp-content/uploads/2018/03/sim.jpg
END:VEVENT
END:VCALENDAR