BEGIN:VCALENDAR
VERSION:2.0
PRODID:-//КРАПКА - ECPv4.8.1//NONSGML v1.0//EN
CALSCALE:GREGORIAN
METHOD:PUBLISH
X-WR-CALNAME:КРАПКА
X-ORIGINAL-URL:https://krapka.rv.ua
X-WR-CALDESC:Events for КРАПКА
BEGIN:VEVENT
DTSTART;TZID=Europe/Uzhgorod:20180404T190000
DTEND;TZID=Europe/Uzhgorod:20180404T233000
DTSTAMP:20260419T153454
CREATED:20180402T162601Z
LAST-MODIFIED:20180402T162601Z
UID:33950-1522868400-1522884600@krapka.rv.ua
SUMMARY:Рівнян запрошують на "Теплу вечірню зустріч"
DESCRIPTION:Тепла вечірня зустріч “Тільки Мафія!” відбудеться у Рівному 4 квітня. \nНайкращому гравцю у “Мафію” – фірмове лате у подарунок від закладу. \nКількість місць обмежена. Телефон для бронювання 067 362 11 31. \n
URL:https://krapka.rv.ua/event/rivnyan-zaproshuyut-na-teplu-vechirnyu-zustrich/
LOCATION:Рівне\, “Між булок”
ATTACH;FMTTYPE=image/jpeg:https://krapka.rv.ua/wp-content/uploads/2018/04/maf.jpg
END:VEVENT
END:VCALENDAR