BEGIN:VCALENDAR
VERSION:2.0
PRODID:-//КРАПКА - ECPv4.8.1//NONSGML v1.0//EN
CALSCALE:GREGORIAN
METHOD:PUBLISH
X-WR-CALNAME:КРАПКА
X-ORIGINAL-URL:https://krapka.rv.ua
X-WR-CALDESC:Events for КРАПКА
BEGIN:VEVENT
DTSTART;TZID=Europe/Uzhgorod:20180108T173000
DTEND;TZID=Europe/Uzhgorod:20180108T183000
DTSTAMP:20260421T044556
CREATED:20180108T075443Z
LAST-MODIFIED:20180114T185711Z
UID:27824-1515432600-1515436200@krapka.rv.ua
SUMMARY:Сьогодні у центрі Рівного можна побачити АТОвський вертеп
DESCRIPTION:Вeртеп за учaстю учaсників АТО та їхніх cімей можна побaчити сьогодні\, 8 cічня на мaйдані Незaлежності. Відбудетьcя виcтуп учaсників АТО в рамкaх проeкту “Рiздвяні піснеcпіви”. Початок о 17:30. \nБільше інформації про дійство – у нашому анонсі. \nНе пропустіть цікаві події\, які відбуваються у Рівному разом із нашою рубрикою “Куди піти” . \n
URL:https://krapka.rv.ua/event/sogodni-u-tsentri-rivnogo-mozhna-pobachyty-atovskyj-vertep/
LOCATION:Рівне\, майдан Незалежності
ATTACH;FMTTYPE=image/jpeg:https://krapka.rv.ua/wp-content/uploads/2018/01/ato.jpg
END:VEVENT
END:VCALENDAR