BEGIN:VCALENDAR
VERSION:2.0
PRODID:-//КРАПКА - ECPv4.8.1//NONSGML v1.0//EN
CALSCALE:GREGORIAN
METHOD:PUBLISH
X-WR-CALNAME:КРАПКА
X-ORIGINAL-URL:https://krapka.rv.ua
X-WR-CALDESC:Events for КРАПКА
BEGIN:VEVENT
DTSTART;TZID=Europe/Uzhgorod:20180501T160000
DTEND;TZID=Europe/Uzhgorod:20180501T190000
DTSTAMP:20260419T144154
CREATED:20180425T100937Z
LAST-MODIFIED:20180425T100937Z
UID:35252-1525190400-1525201200@krapka.rv.ua
SUMMARY:У Рівному гонщики з п'яти країн змагатимуться за звання чемпіона України
DESCRIPTION:Гонщики з Польщі\, Німеччини\, Латвії\, Фінляндії та України змагатимуться у Рівному 1 травня за звання чемпіона України. \nТурнір проходитиме за сіткою у 12 заїздів для 12 гонщиків (+ 2 резервних). За підсумками основної сітки заїздів буде розіграно звання чемпіона України (за погодженням з ФМСУ). \nТак\, 8 найкращих гонщиків стартуватимуть у 2-х півфіналах\, з яких до фінального заїзду вийдуть по два переможці. \nУ Великому Фіналі визначиться володар «Призу Відкриття Сезону». \nНомер змагань: EMN 50/270 – 01/05/2018 – International tournament \nОрганізатор змагань: NGO “Rivne Speedway Club fans” (“КЛУБ ВБОЛІВАЛЬНИКІВ РІВНЕНСЬКОГО СПІДВЕЮ”) \nНаразі переговорний процес щодо участі спортсменів у турнірі триває. Німеччину представлятимуть Ронні ВАЙС та Річард ГЕЙЄР\, з Фінляндії прибуде на змагання молодий та надзвичайно швидкий Ніклас САЙРІО\, від Латвії Євгеній КОСТИГОВ та/або Давіс КУРМІС. Дамьян Адамчак\, Марсель Кайзер\, Себастьян Недзвєдзь\, Павел Месьонц\, Станіслав Бужа та Бартек Ковальські на олівці в організаторів турніру\, а головною зіркою має стати екс-учасник циклу Гран-Прі\, переможець Польської Екстраліги\, призер командного кубку світу у складі збірної Польщі та низки міжнародних змагань Себастьян УЛАМЕК. \nЩодо українських спортсменів то честь нашої держави мають відстоювати Станіслав Мельничук\, Марко Левішин\, Дмитро Мостовик\, Віталій Лисак та Андрій Кобрін. Варто відзначити\, що не всі українські гонщики займають активну позицію щодо участі у всеукраїнських змаганнях. З іншими представниками українського спідвею перемовини ще тривають. \n
URL:https://krapka.rv.ua/event/u-rivnomu-gonshhyky-z-pyaty-krayin-zmagatymutsya-za-zvannya-chempiona-ukrayiny/
ATTACH;FMTTYPE=image/jpeg:https://krapka.rv.ua/wp-content/uploads/2018/04/1travnya.jpg
END:VEVENT
END:VCALENDAR