BEGIN:VCALENDAR
VERSION:2.0
PRODID:-//КРАПКА - ECPv4.8.1//NONSGML v1.0//EN
CALSCALE:GREGORIAN
METHOD:PUBLISH
X-WR-CALNAME:КРАПКА
X-ORIGINAL-URL:https://krapka.rv.ua
X-WR-CALDESC:Events for КРАПКА
BEGIN:VEVENT
DTSTART;TZID=Europe/Uzhgorod:20180103T150000
DTEND;TZID=Europe/Uzhgorod:20180103T170000
DTSTAMP:20260423T120900
CREATED:20180102T193915Z
LAST-MODIFIED:20180118T200956Z
UID:27852-1514991600-1514998800@krapka.rv.ua
SUMMARY:У Рівному покажуть “Мистецьку хуртовину”
DESCRIPTION:А доки ми всі затамували подих в очікуванні снігового дива та різдвяного настрою\, Міський Будинок Культури вже готується вам його створити. Так\, рівнян запрошують на відкриття традиційної виставки новорічно-різдвяних виробів «Мистецька хуртовина»\, яке відбудеться 3 січня о 15:00 у Виставковій залі МБК. \nБільше інформації про захід – читайте у нашому анонсі \n
URL:https://krapka.rv.ua/event/u-rivnomu-pokazhut-mystetsku-hurtovynu/
LOCATION:Рівне\, МБК
ATTACH;FMTTYPE=image/jpeg:https://krapka.rv.ua/wp-content/uploads/2017/12/Hurtovyna.jpg
END:VEVENT
END:VCALENDAR