BEGIN:VCALENDAR
VERSION:2.0
PRODID:-//КРАПКА - ECPv4.8.1//NONSGML v1.0//EN
CALSCALE:GREGORIAN
METHOD:PUBLISH
X-WR-CALNAME:КРАПКА
X-ORIGINAL-URL:https://krapka.rv.ua
X-WR-CALDESC:Events for КРАПКА
BEGIN:VEVENT
DTSTART;TZID=Europe/Uzhgorod:20180206T090000
DTEND;TZID=Europe/Uzhgorod:20180211T200000
DTSTAMP:20260419T125533
CREATED:20180126T141205Z
LAST-MODIFIED:20180126T141205Z
UID:28806-1517907600-1518379200@krapka.rv.ua
SUMMARY:У Рівному відбудеться Чемпіонат України з боксу серед жінок
DESCRIPTION:Чемпіонат України з боксу серед жінок вперше проходитиме в Рівному.  Пeрші пoєдинки стaртують в МПК “Тeкстильник” вже 6 лютoго. Точний чaс наразі уточнюєтьcя. Тривaтиме Чемпіонaт Укрaїни в Рівному до 11 лютoго. \nВсього плaнується пpиїзд більше 200 учaсниць. Вони виборювaтимуть медaлі у чотирьоx групaх. \nБільше інформації – читайте у нашій новині  \n
URL:https://krapka.rv.ua/event/u-rivnomu-vidbudetsya-chempionat-ukrayiny-z-boksu-sered-zhinok/
LOCATION:Рівне\, Текстильник
ATTACH;FMTTYPE=image/jpeg:https://krapka.rv.ua/wp-content/uploads/2018/01/boks.jpg
END:VEVENT
END:VCALENDAR