BEGIN:VCALENDAR
VERSION:2.0
PRODID:-//КРАПКА - ECPv4.8.1//NONSGML v1.0//EN
CALSCALE:GREGORIAN
METHOD:PUBLISH
X-WR-CALNAME:КРАПКА
X-ORIGINAL-URL:https://krapka.rv.ua
X-WR-CALDESC:Events for КРАПКА
BEGIN:VEVENT
DTSTART;TZID=Europe/Uzhgorod:20180428T190000
DTEND;TZID=Europe/Uzhgorod:20180428T210000
DTSTAMP:20260419T133845
CREATED:20180328T141908Z
LAST-MODIFIED:20180328T141908Z
UID:33663-1524942000-1524949200@krapka.rv.ua
SUMMARY:У Рівному відбудеться концерт Vivienne Mort
DESCRIPTION:Vivienne Mort вирушають у всеукраїнський тур на підтримку нового повноформатного альбому «Досвід»\, який побачив світ 19 лютого. Концерт гурту відбудеться і в Рівному. \nТак\, поціновувачі української музики почують гурт у повному складі та з новим альбомом вже рівно через місяць. \nГлибокі змістовні тексти\, сміливий відвертий стиль виконання\, справжня краса музики\, проникливий ніжний голос та артистизм вокалістки роблять кожен концерт Vivienne Mort унікальним\, а сильний емоційний зв’язок між артисткою та слухачем надовго лишається в пам’яті яскравим спогадом і важливим досвідом. \nНині творчість Vivienne Mort люблять та тепло сприймають не тільки в Україні\, а й за кордоном\, зокрема у Польщі\, де гурт мав три концертні тури. \nНа живих концертах гурт активно співпрацює з художником по світлу Максимом Заком\, який уважно вслуховується в драматургію кожного треку і посилює ефект театральності\, яким славляться виступи Vivienne Mort. \n«Хочеш\, щоб навколо всі любили\, були вільні та щасливі – дай їм приклад. Це і буде твій досвід»\, – коротко прокоментувала вихід нового лонгплею вокалістка Даніела Заюшкіна. \nНевимушені та чарівні\, чуттєві та безмежно талановиті\, вразливі та вражаючі\, кожен свій виступ Vivienne Mort проводять на межі емоцій.\nЇх люблять і їм довіряють. \nНа їхні концерти приходять\, щоб позбутися зайвих сліз\, зайвих слів\, відчути себе знову чесним з собою і почути\, що все буде добре. \nКвитки від 150 грн в касі МБК та онлайн: goo.gl/RqxWW2 \nЗустріч концерту в Facebook \nЗустріч концерту в ВК \n
URL:https://krapka.rv.ua/event/u-rivnomu-vidbudetsya-kontsert-vivienne-mort/
LOCATION:Рівне\, МБК
ATTACH;FMTTYPE=image/jpeg:https://krapka.rv.ua/wp-content/uploads/2018/03/konts.jpg
END:VEVENT
END:VCALENDAR