BEGIN:VCALENDAR
VERSION:2.0
PRODID:-//КРАПКА - ECPv4.8.1//NONSGML v1.0//EN
CALSCALE:GREGORIAN
METHOD:PUBLISH
X-WR-CALNAME:КРАПКА
X-ORIGINAL-URL:https://krapka.rv.ua
X-WR-CALDESC:Events for КРАПКА
BEGIN:VEVENT
DTSTART;TZID=Europe/Uzhgorod:20180317T100000
DTEND;TZID=Europe/Uzhgorod:20180318T190000
DTSTAMP:20260419T121713
CREATED:20180227T082555Z
LAST-MODIFIED:20180227T082555Z
UID:31426-1521280800-1521399600@krapka.rv.ua
SUMMARY:У Рівному відбудеться "Весільний переполох"
DESCRIPTION:Виставка “Весільний переполох” проходитиме у Рівному 17 та 18 березня. \nМрієте про ідеальне весілля\, але не знаєте з чого почати\, куди бігти і до кого звертатись? Даємо підказку – завітайте до Міського Будинку Культури 17 та 18 березня на «Весільний переполох 2018». Впродовж цих двох днів десятки представників івент-індустрії західного регіону візьмуть участь у виставці весільних товарів та послуг. \nОрганізатори запевняють\, що це абсолютно новий формат заходу\, який у Рівному відбуватиметься вперше. З того часу як Будинок культури запровадив у своїх стінах пілотний проект «Шлюб за добу» тут почала панувати шалена атмосфера кохання. «Щодня до закладу приходять по декілька закоханих пар\, які бажають одружитися\, які діляться своїми переживаннями стосовно весілля\, запитують поради\, як зробити найважливіший день у своєму житті незабутнім. І хто ж\, як не царина культури міста\, знає\, як влаштувати яскраве свято. Це і стало поштовхом до того\, аби в колективі виникла ідея весільного арт-проекту» – розповідає директор Рівненського МБК Ольга Стельмах. \n
URL:https://krapka.rv.ua/event/u-rivnomu-vidbudetsya-vesilnyj-perepoloh/
LOCATION:Рівне\, МБК
ATTACH;FMTTYPE=image/jpeg:https://krapka.rv.ua/wp-content/uploads/2018/02/Vesilnyj-perepoloh.jpg
END:VEVENT
END:VCALENDAR