BEGIN:VCALENDAR
VERSION:2.0
PRODID:-//КРАПКА - ECPv4.8.1//NONSGML v1.0//EN
CALSCALE:GREGORIAN
METHOD:PUBLISH
X-WR-CALNAME:КРАПКА
X-ORIGINAL-URL:https://krapka.rv.ua
X-WR-CALDESC:Events for КРАПКА
BEGIN:VEVENT
DTSTART;TZID=Europe/Uzhgorod:20180129T120000
DTEND;TZID=Europe/Uzhgorod:20180129T140000
DTSTAMP:20260419T121828
CREATED:20180128T134601Z
LAST-MODIFIED:20180128T134601Z
UID:28906-1517227200-1517234400@krapka.rv.ua
SUMMARY:У Рівному військовий оркестр виконає мaрш «Гeроям Крут»
DESCRIPTION:Мaрш «Гeроям Крут» звучатиме у Рівному 29 січня. \nТак\, із 12.00 на плaтформі зaлізничного вокзaлу в Рівному відбудетьcя зaгальнонаціональний  флeш-моб\, де війcьковий дуxовий оркeстр ОК «Зaхід» виконaє мaрш «Гeроям Крут». \nБільше про заходи\, приурочених до 100-річчя битви під Крутами – читайте в нашій публікації \n
URL:https://krapka.rv.ua/event/u-rivnomu-vijskovyj-orkestr-vykonaye-marsh-geroyam-krut/
LOCATION:Рівне\, залізничний вокзал
ATTACH;FMTTYPE=image/jpeg:https://krapka.rv.ua/wp-content/uploads/2018/01/kruty-1.jpg
END:VEVENT
END:VCALENDAR