BEGIN:VCALENDAR
VERSION:2.0
PRODID:-//КРАПКА - ECPv4.8.1//NONSGML v1.0//EN
CALSCALE:GREGORIAN
METHOD:PUBLISH
X-WR-CALNAME:КРАПКА
X-ORIGINAL-URL:https://krapka.rv.ua
X-WR-CALDESC:Events for КРАПКА
BEGIN:VEVENT
DTSTART;TZID=Europe/Uzhgorod:20180202T120000
DTEND;TZID=Europe/Uzhgorod:20180202T140000
DTSTAMP:20260421T105314
CREATED:20180131T205645Z
LAST-MODIFIED:20180131T205645Z
UID:29204-1517572800-1517580000@krapka.rv.ua
SUMMARY:У Рівному вшанують визволителів міста
DESCRIPTION:Визволителів міста від нацистських загарбників вшанують у Рівному. Заходи відбудуться 2 лютого на військовому меморіалі кладовища «Дубенське». \n
URL:https://krapka.rv.ua/event/u-rivnomu-vshanuyut-vyzvolyteliv-mista/
LOCATION:Рівне\, військовий меморіал кладовища “Дубенське”
ATTACH;FMTTYPE=image/jpeg:https://krapka.rv.ua/wp-content/uploads/2018/01/vyzvol.jpg
END:VEVENT
END:VCALENDAR